View In:
ArcGIS JavaScript
ArcGIS Online Map Viewer
ArcGIS Earth
ArcMap
View Footprint In:
ArcGIS Online Map Viewer
Service Description: CodeEnforcement/GitmoSecondTake_transparent_mosaic_group1_tif
Name: CodeEnforcement/GitmoSecondTake_transparent_mosaic_group1_tif
Description:
Single Fused Map Cache: false
Extent:
XMin: 277968.33803000004
YMin: 3420696.3098500003
XMax: 278026.86079000006
YMax: 3420819.46749
Spatial Reference: 32617
(32617)
Initial Extent:
XMin: 277968.33803000004
YMin: 3420696.3098500003
XMax: 278026.86079000006
YMax: 3420819.46749
Spatial Reference: 32617
(32617)
Full Extent:
XMin: 277968.33803000004
YMin: 3420696.3098500003
XMax: 278026.86079000006
YMax: 3420819.46749
Spatial Reference: 32617
(32617)
Pixel Size X: 0.010520000000003894
Pixel Size Y: 0.010519999999989232
Band Count: 4
Pixel Type: U8
RasterFunction Infos: {"rasterFunctionInfos": [{
"name": "None",
"description": "",
"help": ""
}]}
Mensuration Capabilities: Basic
Has Histograms: true
Has Colormap: false
Has Multi Dimensions : false
Rendering Rule:
Min Scale: 0
Max Scale: 0
Copyright Text:
Service Data Type: esriImageServiceDataTypeGeneric
Min Values: 0, 0, 0, 0
Max Values: 255, 255, 255, 255
Mean Values: 98.762869356654, 101.00787218126, 74.414989880907, 194.42238520225
Standard Deviation Values: 64.461012986364, 63.511858417588, 53.83704465457, 108.52485678261
Object ID Field:
Fields:
None
Default Mosaic Method: Center
Allowed Mosaic Methods:
SortField:
SortValue: null
Mosaic Operator: First
Default Compression Quality: 75
Default Resampling Method: Bilinear
Max Record Count: null
Max Image Height: 4100
Max Image Width: 15000
Max Download Image Count: null
Max Mosaic Image Count: null
Allow Raster Function: true
Allow Compute TiePoints: false
Supports Statistics: false
Supports Advanced Queries: false
Use StandardizedQueries: true
Raster Type Infos:
Name: Raster Dataset
Description: Supports all ArcGIS Raster Datasets
Help:
Has Raster Attribute Table: false
Edit Fields Info: null
Ownership Based AccessControl For Rasters: null
Child Resources:
Info
Histograms
Key Properties
Legend
MultiDimensionalInfo
rasterFunctionInfos
Supported Operations:
Export Image
Identify
Measure
Compute Histograms
Compute Statistics Histograms
Get Samples
Compute Class Statistics
Query Boundary
Compute Pixel Location