{
 "currentVersion": 10.71,
 "serviceDescription": "CodeEnforcement/GitmoSecondTake_transparent_mosaic_group1_tif",
 "name": "CodeEnforcement/GitmoSecondTake_transparent_mosaic_group1_tif",
 "description": "",
 "extent": {
  "xmin": 277968.33803000004,
  "ymin": 3420696.3098500003,
  "xmax": 278026.86079000006,
  "ymax": 3420819.46749,
  "spatialReference": {
   "wkid": 32617,
   "latestWkid": 32617
  }
 },
 "initialExtent": {
  "xmin": 277968.33803000004,
  "ymin": 3420696.3098500003,
  "xmax": 278026.86079000006,
  "ymax": 3420819.46749,
  "spatialReference": {
   "wkid": 32617,
   "latestWkid": 32617
  }
 },
 "fullExtent": {
  "xmin": 277968.33803000004,
  "ymin": 3420696.3098500003,
  "xmax": 278026.86079000006,
  "ymax": 3420819.46749,
  "spatialReference": {
   "wkid": 32617,
   "latestWkid": 32617
  }
 },
 "pixelSizeX": 0.010520000000003894,
 "pixelSizeY": 0.010519999999989232,
 "bandCount": 4,
 "pixelType": "U8",
 "minPixelSize": 0,
 "maxPixelSize": 0,
 "copyrightText": "",
 "serviceDataType": "esriImageServiceDataTypeGeneric",
 "minValues": [
  0,
  0,
  0,
  0
 ],
 "maxValues": [
  255,
  255,
  255,
  255
 ],
 "meanValues": [
  98.762869356654,
  101.00787218126,
  74.414989880907,
  194.42238520225
 ],
 "stdvValues": [
  64.461012986364,
  63.511858417588,
  53.83704465457,
  108.52485678261
 ],
 "objectIdField": "",
 "fields": [],
 "capabilities": "Image,Metadata,Mensuration",
 "defaultMosaicMethod": "Center",
 "allowedMosaicMethods": "",
 "sortField": "",
 "sortValue": null,
 "mosaicOperator": "First",
 "defaultCompressionQuality": 75,
 "defaultResamplingMethod": "Bilinear",
 "maxImageHeight": 4100,
 "maxImageWidth": 15000,
 "allowRasterFunction": true,
 "rasterFunctionInfos": [
  {
   "name": "None",
   "description": "",
   "help": ""
  }
 ],
 "rasterTypeInfos": [
  {
   "name": "Raster Dataset",
   "description": "Supports all ArcGIS Raster Datasets",
   "help": ""
  }
 ],
 "mensurationCapabilities": "Basic",
 "hasHistograms": true,
 "hasColormap": false,
 "hasRasterAttributeTable": false,
 "minScale": 0,
 "maxScale": 0,
 "exportTilesAllowed": false,
 "hasMultidimensions": false,
 "supportsStatistics": false,
 "supportsAdvancedQueries": false,
 "editFieldsInfo": null,
 "ownershipBasedAccessControlForRasters": null,
 "allowComputeTiePoints": false,
 "useStandardizedQueries": true,
 "advancedQueryCapabilities": {
  "useStandardizedQueries": true,
  "supportsStatistics": false,
  "supportsOrderBy": false,
  "supportsDistinct": false,
  "supportsPagination": false
 },
 "spatialReference": {
  "wkid": 32617,
  "latestWkid": 32617
 }
}
