View In:
ArcGIS JavaScript
ArcGIS Online Map Viewer
ArcGIS Earth
ArcMap
View Footprint In:
ArcGIS Online Map Viewer
Service Description: SunsetHill_2026
Name: SunsetHill_2026
Description:
Single Fused Map Cache: false
Extent:
XMin: 280538.71388
YMin: 3414109.38432
XMax: 281257.72565
YMax: 3414672.1708500003
Spatial Reference: 32617
(32617)
Initial Extent:
XMin: 280538.71388
YMin: 3414109.38432
XMax: 281257.72565
YMax: 3414672.1708500003
Spatial Reference: 32617
(32617)
Full Extent:
XMin: 280538.71388
YMin: 3414109.38432
XMax: 281257.72565
YMax: 3414672.1708500003
Spatial Reference: 32617
(32617)
Pixel Size X: 0.021589999999999485
Pixel Size Y: 0.02159000000000605
Band Count: 4
Pixel Type: U8
RasterFunction Infos: {"rasterFunctionInfos": [{
"name": "None",
"description": "",
"help": ""
}]}
Mensuration Capabilities: Basic
Has Histograms: true
Has Colormap: false
Has Multi Dimensions : false
Rendering Rule:
Min Scale: 0
Max Scale: 0
Copyright Text:
Service Data Type: esriImageServiceDataTypeGeneric
Min Values: 0, 0, 0, 0
Max Values: 255, 255, 255, 255
Mean Values: 113.13663571835, 111.82228710614, 91.331183469187, 210.80810575834
Standard Deviation Values: 65.834427979284, 63.10593066018, 57.697518899053, 96.519477442083
Object ID Field:
Fields:
None
Default Mosaic Method: Center
Allowed Mosaic Methods:
SortField:
SortValue: null
Mosaic Operator: First
Default Compression Quality: 75
Default Resampling Method: Bilinear
Max Record Count: null
Max Image Height: 4100
Max Image Width: 15000
Max Download Image Count: null
Max Mosaic Image Count: null
Allow Raster Function: true
Allow Compute TiePoints: false
Supports Statistics: false
Supports Advanced Queries: false
Use StandardizedQueries: true
Raster Type Infos:
Name: Raster Dataset
Description: Supports all ArcGIS Raster Datasets
Help:
Has Raster Attribute Table: false
Edit Fields Info: null
Ownership Based AccessControl For Rasters: null
Child Resources:
Info
Histograms
Key Properties
Legend
MultiDimensionalInfo
rasterFunctionInfos
Supported Operations:
Export Image
Identify
Measure
Compute Histograms
Compute Statistics Histograms
Get Samples
Compute Class Statistics
Query Boundary
Compute Pixel Location