{
 "currentVersion": 10.71,
 "serviceDescription": "eagleview",
 "name": "eagleview",
 "description": "",
 "extent": {
  "xmin": 242088,
  "ymin": 226248.25,
  "xmax": 389928,
  "ymax": 379368,
  "spatialReference": {
   "wkid": 102666,
   "latestWkid": 2239
  }
 },
 "initialExtent": {
  "xmin": 242088,
  "ymin": 226248.25,
  "xmax": 389928,
  "ymax": 379368,
  "spatialReference": {
   "wkid": 102666,
   "latestWkid": 2239
  }
 },
 "fullExtent": {
  "xmin": 242088,
  "ymin": 226248.25,
  "xmax": 389928,
  "ymax": 379368,
  "spatialReference": {
   "wkid": 102666,
   "latestWkid": 2239
  }
 },
 "pixelSizeX": 0.25,
 "pixelSizeY": 0.25,
 "bandCount": 3,
 "pixelType": "U8",
 "minPixelSize": 0,
 "maxPixelSize": 0,
 "copyrightText": "",
 "serviceDataType": "esriImageServiceDataTypeProcessed",
 "minValues": [
  0,
  0,
  0
 ],
 "maxValues": [
  255,
  255,
  255
 ],
 "meanValues": [
  148.74566567379233,
  143.7484605392695,
  128.69780965145677
 ],
 "stdvValues": [
  68.56859135516903,
  68.81557309486374,
  71.92615930795588
 ],
 "objectIdField": "",
 "fields": [],
 "capabilities": "Image,Metadata,Mensuration",
 "defaultMosaicMethod": "Center",
 "allowedMosaicMethods": "",
 "sortField": "",
 "sortValue": null,
 "mosaicOperator": "First",
 "defaultCompressionQuality": 75,
 "defaultResamplingMethod": "Bilinear",
 "maxImageHeight": 4100,
 "maxImageWidth": 15000,
 "allowRasterFunction": true,
 "rasterFunctionInfos": [
  {
   "name": "None",
   "description": "",
   "help": ""
  }
 ],
 "rasterTypeInfos": [
  {
   "name": "Raster Dataset",
   "description": "Supports all ArcGIS Raster Datasets",
   "help": ""
  }
 ],
 "mensurationCapabilities": "Basic",
 "hasHistograms": true,
 "hasColormap": false,
 "hasRasterAttributeTable": false,
 "minScale": 0,
 "maxScale": 0,
 "exportTilesAllowed": false,
 "hasMultidimensions": false,
 "supportsStatistics": false,
 "supportsAdvancedQueries": false,
 "editFieldsInfo": null,
 "ownershipBasedAccessControlForRasters": null,
 "allowComputeTiePoints": false,
 "useStandardizedQueries": true,
 "advancedQueryCapabilities": {
  "useStandardizedQueries": true,
  "supportsStatistics": false,
  "supportsOrderBy": false,
  "supportsDistinct": false,
  "supportsPagination": false
 },
 "spatialReference": {
  "wkid": 102666,
  "latestWkid": 2239
 }
}
