{
 "currentVersion": 10.71,
 "serviceDescription": "MemorialGarden_080625",
 "name": "MemorialGarden_080625",
 "description": "",
 "extent": {
  "xmin": 284137.98751,
  "ymin": 3453320.4982200004,
  "xmax": 284396.56303,
  "ymax": 3453608.0733900005,
  "spatialReference": {
   "wkid": 32617,
   "latestWkid": 32617
  }
 },
 "initialExtent": {
  "xmin": 284137.98751,
  "ymin": 3453320.4982200004,
  "xmax": 284396.56303,
  "ymax": 3453608.0733900005,
  "spatialReference": {
   "wkid": 32617,
   "latestWkid": 32617
  }
 },
 "fullExtent": {
  "xmin": 284137.98751,
  "ymin": 3453320.4982200004,
  "xmax": 284396.56303,
  "ymax": 3453608.0733900005,
  "spatialReference": {
   "wkid": 32617,
   "latestWkid": 32617
  }
 },
 "pixelSizeX": 0.01877000000000095,
 "pixelSizeY": 0.018770000000005466,
 "bandCount": 4,
 "pixelType": "U8",
 "minPixelSize": 0,
 "maxPixelSize": 0,
 "copyrightText": "",
 "serviceDataType": "esriImageServiceDataTypeGeneric",
 "minValues": [
  0,
  0,
  0,
  0
 ],
 "maxValues": [
  255,
  255,
  255,
  255
 ],
 "meanValues": [
  145.86718061871,
  170.32915435472,
  95.381530419349,
  228.33290826883
 ],
 "stdvValues": [
  56.198697664423,
  62.333872504003,
  47.999941248442,
  78.031882194997
 ],
 "objectIdField": "",
 "fields": [],
 "capabilities": "Image,Metadata,Mensuration",
 "defaultMosaicMethod": "Center",
 "allowedMosaicMethods": "",
 "sortField": "",
 "sortValue": null,
 "mosaicOperator": "First",
 "defaultCompressionQuality": 75,
 "defaultResamplingMethod": "Bilinear",
 "maxImageHeight": 4100,
 "maxImageWidth": 15000,
 "allowRasterFunction": true,
 "rasterFunctionInfos": [
  {
   "name": "None",
   "description": "",
   "help": ""
  }
 ],
 "rasterTypeInfos": [
  {
   "name": "Raster Dataset",
   "description": "Supports all ArcGIS Raster Datasets",
   "help": ""
  }
 ],
 "mensurationCapabilities": "Basic",
 "hasHistograms": true,
 "hasColormap": false,
 "hasRasterAttributeTable": false,
 "minScale": 0,
 "maxScale": 0,
 "exportTilesAllowed": false,
 "hasMultidimensions": false,
 "supportsStatistics": false,
 "supportsAdvancedQueries": false,
 "editFieldsInfo": null,
 "ownershipBasedAccessControlForRasters": null,
 "allowComputeTiePoints": false,
 "useStandardizedQueries": true,
 "advancedQueryCapabilities": {
  "useStandardizedQueries": true,
  "supportsStatistics": false,
  "supportsOrderBy": false,
  "supportsDistinct": false,
  "supportsPagination": false
 },
 "spatialReference": {
  "wkid": 32617,
  "latestWkid": 32617
 }
}
