{
 "currentVersion": 10.71,
 "serviceDescription": "MemorialGarden_062922",
 "name": "MemorialGarden_062922",
 "description": "",
 "extent": {
  "xmin": 284191.07738000003,
  "ymin": 3453355.4043600005,
  "xmax": 284356.12682,
  "ymax": 3453582.6583200004,
  "spatialReference": {
   "wkid": 32617,
   "latestWkid": 32617
  }
 },
 "initialExtent": {
  "xmin": 284191.07738000003,
  "ymin": 3453355.4043600005,
  "xmax": 284356.12682,
  "ymax": 3453582.6583200004,
  "spatialReference": {
   "wkid": 32617,
   "latestWkid": 32617
  }
 },
 "fullExtent": {
  "xmin": 284191.07738000003,
  "ymin": 3453355.4043600005,
  "xmax": 284356.12682,
  "ymax": 3453582.6583200004,
  "spatialReference": {
   "wkid": 32617,
   "latestWkid": 32617
  }
 },
 "pixelSizeX": 0.008519999999998628,
 "pixelSizeY": 0.008519999999995705,
 "bandCount": 4,
 "pixelType": "U8",
 "minPixelSize": 0,
 "maxPixelSize": 0,
 "copyrightText": "",
 "serviceDataType": "esriImageServiceDataTypeGeneric",
 "minValues": [
  0,
  0,
  0,
  0
 ],
 "maxValues": [
  255,
  255,
  255,
  255
 ],
 "meanValues": [
  127.52687794746,
  145.29678044183,
  90.451892411621,
  220.20485698346
 ],
 "stdvValues": [
  62.124772514067,
  65.865075960198,
  52.324163289245,
  87.533190884969
 ],
 "objectIdField": "",
 "fields": [],
 "capabilities": "Image,Metadata,Mensuration",
 "defaultMosaicMethod": "Center",
 "allowedMosaicMethods": "",
 "sortField": "",
 "sortValue": null,
 "mosaicOperator": "First",
 "defaultCompressionQuality": 75,
 "defaultResamplingMethod": "Bilinear",
 "maxImageHeight": 4100,
 "maxImageWidth": 15000,
 "allowRasterFunction": true,
 "rasterFunctionInfos": [
  {
   "name": "None",
   "description": "",
   "help": ""
  }
 ],
 "rasterTypeInfos": [
  {
   "name": "Raster Dataset",
   "description": "Supports all ArcGIS Raster Datasets",
   "help": ""
  }
 ],
 "mensurationCapabilities": "Basic",
 "hasHistograms": true,
 "hasColormap": false,
 "hasRasterAttributeTable": false,
 "minScale": 0,
 "maxScale": 0,
 "exportTilesAllowed": false,
 "hasMultidimensions": false,
 "supportsStatistics": false,
 "supportsAdvancedQueries": false,
 "editFieldsInfo": null,
 "ownershipBasedAccessControlForRasters": null,
 "allowComputeTiePoints": false,
 "useStandardizedQueries": true,
 "advancedQueryCapabilities": {
  "useStandardizedQueries": true,
  "supportsStatistics": false,
  "supportsOrderBy": false,
  "supportsDistinct": false,
  "supportsPagination": false
 },
 "spatialReference": {
  "wkid": 32617,
  "latestWkid": 32617
 }
}
